BEGIN:VCALENDAR
VERSION:2.0
PRODID:-//California Telehealth Resource Center - ECPv6.15.18//NONSGML v1.0//EN
CALSCALE:GREGORIAN
METHOD:PUBLISH
X-WR-CALNAME:California Telehealth Resource Center
X-ORIGINAL-URL:https://caltrc.org
X-WR-CALDESC:Events for California Telehealth Resource Center
REFRESH-INTERVAL;VALUE=DURATION:PT1H
X-Robots-Tag:noindex
X-PUBLISHED-TTL:PT1H
BEGIN:VTIMEZONE
TZID:Asia/Shanghai
BEGIN:STANDARD
TZOFFSETFROM:+0800
TZOFFSETTO:+0800
TZNAME:CST
DTSTART:20220101T000000
END:STANDARD
END:VTIMEZONE
BEGIN:VTIMEZONE
TZID:UTC
BEGIN:STANDARD
TZOFFSETFROM:+0000
TZOFFSETTO:+0000
TZNAME:UTC
DTSTART:20220101T000000
END:STANDARD
END:VTIMEZONE
BEGIN:VEVENT
DTSTART;TZID=Asia/Shanghai:20241121T110000
DTEND;TZID=Asia/Shanghai:20241121T233000
DTSTAMP:20260422T040149
CREATED:20241104T202742Z
LAST-MODIFIED:20250214T193736Z
UID:10000128-1732186800-1732231800@caltrc.org
SUMMARY:Digital Health Update (Part 2) in the Medicare Physician Fee Schedule CY 25
DESCRIPTION:[vc_row][vc_column][vc_row_inner][vc_column_inner][vc_custom_heading text=”Event Description” font_container=”tag:h2|text_align:left|color:%2378a23f” use_theme_fonts=”yes” css=”.vc_custom_1692314796264{padding-top: 0px !important;padding-bottom: 0px !important;}”][vc_column_text css=””]Stay informed on the latest changes to digital health modalities in the new Physician Fee Schedule (PFS). This webinar will cover updates on critical digital health services like telehealth and e-visits. Ideal for healthcare providers and administrators\, this session will provide actionable insights to help you navigate the evolving digital health landscape and enhance patient engagement through compliant\, reimbursable services.[/vc_column_text][/vc_column_inner][/vc_row_inner]View RecordingView Slides[vc_row_inner css=”.vc_custom_1692314355424{padding-top: 1em !important;}”][vc_column_inner width=”2/3″][vc_custom_heading text=”Learning Objectives” font_container=”tag:h2|text_align:left|color:%2378a23f” use_theme_fonts=”yes” css=”.vc_custom_1692314832150{padding-top: 0px !important;padding-bottom: 0px !important;}”][vc_column_text css=””] \n\nUnderstand Broader PFS Updates: Identify and comprehend the latest changes in the Physician Fee Schedule (PFS) affecting a range of digital health services beyond RPM and RTM\, including telehealth and e-visits.\nNavigate Regulatory Changes: Analyze how the updated PFS regulations impact compliance\, reimbursement\, and operational requirements for diverse digital health modalities\, ensuring your services remain aligned with current standards.\nEnhance Patient Engagement: Learn actionable strategies to leverage reimbursable digital health services effectively\, with a focus on improving patient engagement and care accessibility through compliant digital health solutions.\n\n[/vc_column_text][/vc_column_inner][vc_column_inner width=”1/3″][vc_single_image image=”49714″ img_size=”full” alignment=”center” animation=”rda_fadeInRight”]View RecordingView Slides[/vc_column_inner][/vc_row_inner][vc_custom_heading text=”Presenter:” font_container=”tag:h2|text_align:center|color:%2378a23f” use_theme_fonts=”yes” css=”.vc_custom_1692314247697{padding-top: 0px !important;padding-bottom: 0px !important;}”]\n[vc_row_inner content_placement=”middle” css=”.vc_custom_1692310176984{padding-top: 1em !important;}”][vc_column_inner width=”1/3″][vc_single_image image=”62370″ img_size=”full” alignment=”center” style=”vc_box_border_circle_2″ border_color=”blue” css=””][/vc_column_inner][vc_column_inner width=”2/3″][vc_custom_heading text=”Sylvia Trujillo MPP JD” font_container=”tag:h3|text_align:left|color:%230070bc” use_theme_fonts=”yes” css=””][vc_custom_heading text=”Executive Director\, CTRC” font_container=”tag:h5|text_align:left|color:%23f5851f” use_theme_fonts=”yes” css=””][/vc_column_inner][/vc_row_inner][vc_row_inner content_placement=”middle” css=”.vc_custom_1692310176984{padding-top: 1em !important;}”][vc_column_inner][vc_column_text css=””] \nSylvia Trujillo is a health care\, innovation\, and regulatory leader with a career spanning over 15 years. As the Executive Director of the California Telehealth Resource Center (CTRC)\, she drives initiatives to foster sustainable access to health care\, especially among under-resourced and rural communities\, leveraging digital modalities to drive system-level transformation. Nationally recognized for her contributions to advancing the adoption of evidence-based digital medicine\, Sylvia’s expertise encompasses telehealth\, eConsult\, remote patient monitoring\, and the burgeoning field of AI in healthcare—particularly in the areas of regulation\, payment\, and coverage. Her commitment to healthcare access is evidenced by her work at the American Medical Association\, where she crafted key strategies that culminated in a historic expansion of Medicare coverage for digital medicine modalities. Sylvia continues to be a thought leader on sustainable alternative payment models for providers in underinvested communities (including through the use of digital modalities) and ensuring that the right patients receive the right care at the right time. \n[/vc_column_text][/vc_column_inner][/vc_row_inner][/vc_column][/vc_row]
URL:https://caltrc.org/events/digital-health-updates-in-the-new-physician-fee-schedule/
LOCATION:Virtual
END:VEVENT
BEGIN:VEVENT
DTSTART;TZID=Asia/Shanghai:20241112T100000
DTEND;TZID=Asia/Shanghai:20241112T223000
DTSTAMP:20260422T040149
CREATED:20241104T174012Z
LAST-MODIFIED:20241206T192818Z
UID:10000127-1731405600-1731450600@caltrc.org
SUMMARY:RPM\, RTM\, and More (Part 1) in the Medicare Physician Fee Schedule CY 25
DESCRIPTION:[vc_row][vc_column][vc_row_inner][vc_column_inner][vc_custom_heading text=”Event Description” font_container=”tag:h2|text_align:left|color:%2378a23f” use_theme_fonts=”yes” css=”.vc_custom_1692314796264{padding-top: 0px !important;padding-bottom: 0px !important;}”][vc_column_text css=””]Join us for an in-depth look at the latest updates to Remote Physiological Monitoring (RPM) and Remote Therapeutic Monitoring (RTM) within the newly released Physician Fee Schedule. This webinar will explore changes in reimbursement rates\, coding adjustments\, and compliance requirements\, providing insights into how these updates impact physicians\, healthcare providers\, and organizations focused on patient-centered care. Ideal for healthcare professionals and administrators\, this session will equip you with the knowledge to optimize RPM/RTM programs under the latest regulatory guidelines.[/vc_column_text][/vc_column_inner][/vc_row_inner]View RecordingView Slide Deck [vc_row_inner css=”.vc_custom_1692314355424{padding-top: 1em !important;}”][vc_column_inner width=”2/3″][vc_custom_heading text=”Learning Objectives” font_container=”tag:h2|text_align:left|color:%2378a23f” use_theme_fonts=”yes” css=”.vc_custom_1692314832150{padding-top: 0px !important;padding-bottom: 0px !important;}”][vc_column_text css=””] \n\nUnderstand Key Changes: Identify and understand the recent updates to reimbursement rates\, coding adjustments\, and compliance requirements for Remote Patient Monitoring (RPM) and Remote Therapeutic Monitoring (RTM) as outlined in the newly released Physician Fee Schedule.\nAssess Program Impact: Evaluate how these changes will impact physicians\, healthcare providers\, and organizations\, and apply insights to optimize existing RPM/RTM programs to align with current regulatory guidelines.\nImplement Best Practices: Gain practical strategies for ensuring compliance and maximizing reimbursement within RPM and RTM services\, enhancing patient-centered care delivery under the updated framework.\n\n[/vc_column_text][/vc_column_inner][vc_column_inner width=”1/3″][vc_single_image image=”49714″ img_size=”full” alignment=”center” animation=”rda_fadeInRight”]View RecordingView Slide Deck [/vc_column_inner][/vc_row_inner][vc_custom_heading text=”Presenter:” font_container=”tag:h2|text_align:center|color:%2378a23f” use_theme_fonts=”yes” css=”.vc_custom_1692314247697{padding-top: 0px !important;padding-bottom: 0px !important;}”]\n[vc_row_inner content_placement=”middle” css=”.vc_custom_1692310176984{padding-top: 1em !important;}”][vc_column_inner width=”1/3″][vc_single_image image=”62458″ img_size=”full” alignment=”center” style=”vc_box_border_circle_2″ border_color=”blue” css=””][/vc_column_inner][vc_column_inner width=”2/3″][vc_custom_heading text=”Robert Jarrin JD” font_container=”tag:h3|text_align:left|color:%230070bc” use_theme_fonts=”yes” css=””][vc_custom_heading text=”Strategic Digital Health Advisor” font_container=”tag:h5|text_align:left|color:%23f5851f” use_theme_fonts=”yes” css=””][/vc_column_inner][/vc_row_inner][vc_row_inner content_placement=”middle” css=”.vc_custom_1692310176984{padding-top: 1em !important;}”][vc_column_inner][vc_column_text css=””]Robert Jarrin is a strategic advisor on digital health and medicine to various companies\, associations\, and medical organizations.  He formerly served for nearly 20 years as a Senior Director\, Government Affairs for Qualcomm Incorporated.  Jarrin’s areas of expertise include CPT coding of digital services\, CMS coverage and payment of digital medical services\, FDA regulation of digital health\, and ONC policies on Health IT interoperability.    \nJarrin has served on several Federal Advisory Committees covering innovation\, safety\, health IT standards\, and consumer advocacy.  He has testified numerous times before the U.S. House of Representatives providing expert testimony on innovation\, mobile medical apps\, and the 21st Century Cures Act.  Jarrin has also participated on a federally sponsored Technical Expert Panel (TEP) on the use of technology to facilitate clinical preventive services.  He currently serves as a founding member of the American Medical Association (AMA) Digital Medicine Payment Advisory Group (DMPAG).    \nJarrin holds several academic adjunct faculty appointments\, including the Yale University School of Medicine (Department of Internal Medicine)\, the George Washington University School of Medicine and Health Sciences (Department of Emergency Medicine)\, and the Georgetown University Medical Center (Department of Biochemistry and Molecular and Cellular Biology).    \nJarrin has a BA in Government and Politics from the University of Maryland at College Park\, and a JD from Northeastern University School of Law.  \n[/vc_column_text]View Recording[/vc_column_inner][/vc_row_inner][/vc_column][/vc_row][vc_row][vc_column][/vc_column][/vc_row]
URL:https://caltrc.org/events/key-updates-on-rpm-rtm-in-the-new-physician-fee-schedule/
LOCATION:Virtual
END:VEVENT
BEGIN:VEVENT
DTSTART;TZID=Asia/Shanghai:20241016T093000
DTEND;TZID=Asia/Shanghai:20241016T103000
DTSTAMP:20260422T040149
CREATED:20240923T204000Z
LAST-MODIFIED:20250214T194214Z
UID:10000124-1729071000-1729074600@caltrc.org
SUMMARY:A Digital Health Legislative Update\, Preparation for New Medicare Policies CY 2025\, and Federal DEA Regulatory Update
DESCRIPTION:[vc_row][vc_column][vc_row_inner][vc_column_inner][vc_custom_heading text=”Event Description” font_container=”tag:h2|text_align:left|color:%2378a23f” use_theme_fonts=”yes” css=”.vc_custom_1692314796264{padding-top: 0px !important;padding-bottom: 0px !important;}”][vc_column_text css=””]Designed for healthcare professionals looking to stay informed on evolving regulations\, this session will cover critical changes in California’s digital health landscape\, upcoming Medicare policies for 2025\, and the latest updates on federal DEA regulations. Stay ahead of compliance requirements\, understand how these shifts impact your practice\, and ensure your organization is prepared for the future of digital health. Don’t miss this opportunity to stay compliant and informed![/vc_column_text][/vc_column_inner][/vc_row_inner]View Slides [vc_row_inner css=”.vc_custom_1692314355424{padding-top: 1em !important;}”][vc_column_inner width=”2/3″][vc_custom_heading text=”Learning Objectives” font_container=”tag:h2|text_align:left|color:%2378a23f” use_theme_fonts=”yes” css=”.vc_custom_1692314832150{padding-top: 0px !important;padding-bottom: 0px !important;}”][vc_column_text css=””] \n\nUnderstand Key Changes in California’s Digital Health Legislation\nPrepare for New Medicare Policies Effective in CY 2025\nNavigate Federal DEA Regulatory Updates\nDevelop Strategies to Ensure Compliance with Evolving Regulations\n\n[/vc_column_text][/vc_column_inner][vc_column_inner width=”1/3″][vc_single_image image=”49714″ img_size=”full” alignment=”center” animation=”rda_fadeInRight”]View Slides [/vc_column_inner][/vc_row_inner][vc_custom_heading text=”Presenters:” font_container=”tag:h2|text_align:center|color:%2378a23f” use_theme_fonts=”yes” css=”.vc_custom_1727123710674{padding-top: 0px !important;padding-bottom: 0px !important;}”]\n[vc_row_inner content_placement=”middle” css=”.vc_custom_1692310176984{padding-top: 1em !important;}”][vc_column_inner width=”1/3″][vc_single_image image=”62762″ img_size=”full” alignment=”center” style=”vc_box_border_circle_2″ border_color=”blue” css=””][/vc_column_inner][vc_column_inner width=”2/3″][vc_custom_heading text=”Jennifer Stoll” font_container=”tag:h3|text_align:left|color:%230070bc” use_theme_fonts=”yes” css=””][vc_custom_heading text=”Chief External Affairs Officer\, OCHIN” font_container=”tag:h5|text_align:left|color:%23f5851f” use_theme_fonts=”yes” css=””][/vc_column_inner][/vc_row_inner][vc_row_inner content_placement=”middle” css=”.vc_custom_1692310176984{padding-top: 1em !important;}”][vc_column_inner][vc_column_text css=””]Jennifer Stoll is the chief external affairs officer of OCHIN\, a nonprofit leader in accessible health care innovation and a trusted partner to a growing national provider network\, offering a wide range of insights and solutions expertise to improve the health of rural and medically underinvested communities. \nJennifer has extensive experience creating innovative and sustainable solutions to the complex external challenges facing providers in rural and medically underinvested communities. She is a national leader and highly sought-after spokesperson in health system transformation and health care information technology. She leads OCHIN’s advocacy\, policy\, development\, and partnership teams\, all who are experts in using data-driven strategies to close care gaps in local communities nationwide. Before joining OCHIN\, Jennifer spent more than 20 years in the pharmaceutical industry.[/vc_column_text][/vc_column_inner][/vc_row_inner][/vc_column][/vc_row][vc_row][vc_column][vc_row_inner content_placement=”middle” css=”.vc_custom_1692310176984{padding-top: 1em !important;}”][vc_column_inner width=”1/3″][vc_single_image image=”62370″ img_size=”full” alignment=”center” style=”vc_box_border_circle_2″ border_color=”blue” css=””][/vc_column_inner][vc_column_inner width=”2/3″][vc_custom_heading text=”Sylvia Trujillo” font_container=”tag:h3|text_align:left|color:%230070bc” use_theme_fonts=”yes” css=””][vc_custom_heading text=”Executive Director\, CTRC” font_container=”tag:h5|text_align:left|color:%23f5851f” use_theme_fonts=”yes” css=””][/vc_column_inner][/vc_row_inner][vc_row_inner content_placement=”middle” css=”.vc_custom_1692310176984{padding-top: 1em !important;}”][vc_column_inner][vc_column_text css=””]Sylvia Trujillo is a health care\, innovation\, and regulatory leader with a career spanning over 15 years. As the Executive Director of the California Telehealth Resource Center (CTRC)\, she drives initiatives to foster sustainable access to health care\, especially among underserved and rural communities\, leveraging digital modalities to drive system-level transformation. Nationally recognized for her contributions to advancing the adoption of evidence-based digital medicine\, Sylvia’s expertise encompasses telehealth\, eConsult\, remote patient monitoring\, and the burgeoning field of AI in healthcare—particularly in the areas of regulation\, payment\, and coverage. Her commitment to health equity is evidenced by her work at the American Medical Association\, where she crafted key strategies that culminated in a historic expansion of Medicare coverage for digital medicine modalities. Sylvia continues to be a thought leader on sustainable alternative payment models for providers in underinvested communities (including through the use of digital modalities) and ensuring that the right patients receive the right care at the right time.[/vc_column_text][vc_empty_space][/vc_column_inner][/vc_row_inner][/vc_column][/vc_row]
URL:https://caltrc.org/events/a-digital-health-legislative-update-preparation-for-new-medicare-policies-cy-2025-and-federal-dea-regulatory-update/
LOCATION:Online/Webinar
END:VEVENT
BEGIN:VEVENT
DTSTART;TZID=Asia/Shanghai:20240529T090000
DTEND;TZID=Asia/Shanghai:20240529T170000
DTSTAMP:20260422T040149
CREATED:20240507T173055Z
LAST-MODIFIED:20240507T173055Z
UID:10000119-1716973200-1717002000@caltrc.org
SUMMARY:Pre-Summit Artificial Intelligence Sessions
DESCRIPTION:[vc_row][vc_column][vc_row_inner][vc_column_inner][vc_custom_heading text=”Event Description” font_container=”tag:h2|text_align:left|color:%2378a23f” use_theme_fonts=”yes” css=”.vc_custom_1692314796264{padding-top: 0px !important;padding-bottom: 0px !important;}”][vc_column_text css=””]AI-SESSIONS INCLUDED IN SUMMIT REGISTRATION \nJoin us to explore the transformative power of Artificial Intelligence (AI) in revolutionizing healthcare. In this three-part virtual pre-conference series\, experts and thought leaders from the intersection of technology and healthcare will delve into cutting-edge advancements\, ethical considerations\, and practical applications reshaping the future of medical care. Uncover emerging trends\, breakthroughs\, and practical applications shaping the landscape of medical innovation. Learn how AI is revolutionizing personalized medicine\, predictive analytics\, telehealth\, and more while envisioning the potential for AI to transform healthcare delivery models and improve patient outcomes.[/vc_column_text][/vc_column_inner][/vc_row_inner]REGISTER HERE\n[/vc_column][/vc_row]
URL:https://caltrc.org/events/pre-summit-artificial-intelligence-sessions/
LOCATION:Virtual
CATEGORIES:CTRC Event
END:VEVENT
BEGIN:VEVENT
DTSTART;TZID=Asia/Shanghai:20231121T120000
DTEND;TZID=Asia/Shanghai:20231121T130000
DTSTAMP:20260422T040149
CREATED:20230929T185809Z
LAST-MODIFIED:20231121T221151Z
UID:10000102-1700568000-1700571600@caltrc.org
SUMMARY:Trailblazing Healthcare Education: Digital Innovation\, Telehealth\, and Training
DESCRIPTION:[vc_row][vc_column][vc_row_inner][vc_column_inner][vc_custom_heading text=”Event Description” font_container=”tag:h2|text_align:left|color:%2378a23f” use_theme_fonts=”yes” css=”.vc_custom_1692314796264{padding-top: 0px !important;padding-bottom: 0px !important;}”][vc_column_text]This presentation will explore the ways in which telehealth is revolutionizing healthcare education and empowering future care providers. The session will discuss the importance of incorporating telehealth training into healthcare education programs\, and how this can prepare students to deliver high-quality care in a digital age. We will also examine the benefits and challenges of telehealth training\, as well as the latest tools and resources available to educators to create effective telehealth training programs. By the end of this presentation\, attendees will gain a deeper understanding of the critical role telehealth training plays in preparing the next generation of healthcare providers for the future of healthcare delivery.[/vc_column_text][/vc_column_inner][/vc_row_inner]Watch the Recording on YouTubeView the Presentation Slides\n[vc_custom_heading text=”Presenter:” font_container=”tag:h2|text_align:center|color:%2378a23f” use_theme_fonts=”yes” css=”.vc_custom_1692314247697{padding-top: 0px !important;padding-bottom: 0px !important;}”][vc_row_inner content_placement=”middle” css=”.vc_custom_1692310176984{padding-top: 1em !important;}”][vc_column_inner width=”1/3″][vc_single_image image=”62380″ img_size=”full” alignment=”center” style=”vc_box_border_circle_2″ border_color=”blue”][/vc_column_inner][vc_column_inner width=”2/3″][vc_custom_heading text=”Nupur Hajela\, PT\, DPT\, PhD” font_container=”tag:h3|text_align:left|color:%230070bc” use_theme_fonts=”yes”][vc_custom_heading text=”Assistant Professor\, Department of Physical Therapy\nC0-Director Gait Balance and Mobility Research and Education Center\nDirector of Rehabilitation Technologies & Outcomes Research\nCentral California Sports Sciences Institute\nCalifornia State University\, Fresno” font_container=”tag:h5|text_align:left|color:%23f5851f” use_theme_fonts=”yes”][/vc_column_inner][/vc_row_inner][vc_row_inner content_placement=”middle” css=”.vc_custom_1692310176984{padding-top: 1em !important;}”][vc_column_inner][vc_column_text]Dr. Nupur Hajela is an Assistant Professor in the Department of Physical Therapy at California State University\, Fresno\, USA. She is the Director of Rehabilitation Technologies and Outcomes Research at Central California Sports Sciences Institute.  She is Co-Director of. Gait Balance Clinic (GBMC). She is a trained neuroscientist and did her post-doctoral fellowship on clinical neurorehabilitation at Shirly Ryan Ability lab (previous name – Rehabilitation Institute of Chicago (RIC). She is a licensed physical therapist in two states i.e.\, California and Washington. She is an active clinician and currently treats parkinsons patients using cutting-edge technology. She is an emerging leader in the area of telerehabilitation and is an invited speaker at national and international conferences on telehealth\, digital innovations\, remote therapeutic monitoring.  Dr. Hajela serves as the vice chairperson of San Joaquin Valley District (SJVD) – California Physical Therapy Association. In this role she is currently working to support efforts for using technology in the field of fall prevention to empower seniors in the community. Dr. Hajela believes in an interprofessional approach to treating patients and therefore is interested in internal and external collaboration. Her research interests are in the area of application of technology for rehabilitation such as telehealth\, remote monitoring\, virtual reality\, augmented reality\, artificial intelligence.[/vc_column_text][/vc_column_inner][/vc_row_inner][/vc_column][/vc_row]
URL:https://caltrc.org/events/trailblazing-healthcare-education-digital-innovation-telehealth-and-training/
LOCATION:Online/Webinar
END:VEVENT
BEGIN:VEVENT
DTSTART;TZID=UTC:20230920T120000
DTEND;TZID=UTC:20230920T130000
DTSTAMP:20260422T040149
CREATED:20230810T090536Z
LAST-MODIFIED:20230922T154810Z
UID:10000024-1695211200-1695214800@caltrc.org
SUMMARY:Competency Models: Gaps Between Telehealth Provider Experiences and Telehealth Provider Literature
DESCRIPTION:[vc_row][vc_column][vc_row_inner][vc_column_inner][vc_custom_heading text=”Event Description” font_container=”tag:h2|text_align:left|color:%2378a23f” use_theme_fonts=”yes” css=”.vc_custom_1692314796264{padding-top: 0px !important;padding-bottom: 0px !important;}”][vc_column_text]This qualitative research study analyzes telehealth provider experiences and perceptions of literature-based telehealth provider competency models. 14 telehealth experts participated in semi-structured interviews categorically capturing each participant’s review of two telehealth provider competency models. Participants shared their perceptions of the models’ effectiveness based on their professional telehealth application experiences. Based on the participants’ assessment a third telehealth provider competency model was developed. In addition to the new competency model\, conclusions regarding gaps in telehealth provider competencies literature and telehealth provider competencies experiences are discussed.[/vc_column_text][/vc_column_inner][/vc_row_inner]Watch Recording[vc_row_inner css=”.vc_custom_1692314355424{padding-top: 1em !important;}”][vc_column_inner width=”2/3″][vc_custom_heading text=”Learning Objectives” font_container=”tag:h2|text_align:left|color:%2378a23f” use_theme_fonts=”yes” css=”.vc_custom_1692314832150{padding-top: 0px !important;padding-bottom: 0px !important;}”][vc_column_text] \n\nSummarize telehealth provider competencies frequently communicated in literature and in application.\nAnalyze gaps\, based on telehealth expert experiences\, between literature-based telehealth competencies and application-based telehealth provider competencies.\nEvaluate the significance of the telehealth provider literature and telehealth provider application competency gap.\n\n[/vc_column_text][/vc_column_inner][vc_column_inner width=”1/3″][vc_single_image image=”49714″ img_size=”full” alignment=”center” animation=”rda_fadeInRight”]WATCH THE RECORDING HERE[/vc_column_inner][/vc_row_inner][vc_custom_heading text=”Presenter:” font_container=”tag:h2|text_align:center|color:%2378a23f” use_theme_fonts=”yes” css=”.vc_custom_1692314247697{padding-top: 0px !important;padding-bottom: 0px !important;}”]\n[vc_row_inner content_placement=”middle” css=”.vc_custom_1692310176984{padding-top: 1em !important;}”][vc_column_inner width=”1/3″][vc_single_image image=”62340″ img_size=”full” alignment=”center” style=”vc_box_border_circle_2″ border_color=”blue”][/vc_column_inner][vc_column_inner width=”2/3″][vc_custom_heading text=”Jillian R. Williamson Yarbrough” font_container=”tag:h3|text_align:left|color:%230070bc” use_theme_fonts=”yes”][vc_custom_heading text=”Clinical Assistant and the Virginia Engler Professor of Management at West Texas A&M University” font_container=”tag:h5|text_align:left|color:%23f5851f” use_theme_fonts=”yes”][/vc_column_inner][/vc_row_inner][vc_row_inner content_placement=”middle” css=”.vc_custom_1692310176984{padding-top: 1em !important;}”][vc_column_inner][vc_column_text] \nJillian R. Williamson Yarbrough is a Clinical Assistant and the Virginia Engler Professor of Management at West Texas A&M University. She earned her BS in Education from Texas Christian University\, her MS\, MBA\, and Ph.D. from Texas A&M University in Management/Educational Human Resource Development\, and her MS in Forensic Psychology from The University of North Dakota. Dr. Yarbrough has over 20 years of experience in higher education and management development. Her areas of research include telehealth provider competencies\, rural telehealth best practices\, incivilities in the workplace\, and empathetic management. Her work has most recently been published in Rural Society and The Journal of Health and Human Services. \n[/vc_column_text]REGISTER HERE[/vc_column_inner][/vc_row_inner][/vc_column][/vc_row]
URL:https://caltrc.org/events/competency-models-2023/
LOCATION:Online/Webinar
ATTACH;FMTTYPE=image/png:https://caltrc.org/wp-content/uploads/2023/08/Caltrc.org-Event-Header-2.png
END:VEVENT
BEGIN:VEVENT
DTSTART;TZID=UTC:20230516T120000
DTEND;TZID=UTC:20230516T130000
DTSTAMP:20260422T040149
CREATED:20230419T094251Z
LAST-MODIFIED:20230518T105942Z
UID:10000093-1684238400-1684242000@caltrc.org
SUMMARY:Covid-19 PHE Termination - Impacts on Telehealth
DESCRIPTION:The COVID-19 Public Health Emergency is ending on May 11th. To ensure that you have all the information you need to navigate through this change\, CTRC will be holding an informative session with OCHIN’s Senior Director of Policy and Advocacy\, Sylvia Trujillo. She will be covering the many ways in which Telehealth visits and prescribing will be impacted once the PHE lifts and the flexibilities granted during the COVID pandemic expire. You won’t want to miss it! \nView the Session Recording Here \nView the Slide Deck Here
URL:https://caltrc.org/events/covid-19-phe-termination-impacts-on-telehealth/
LOCATION:Virtual
END:VEVENT
END:VCALENDAR