BEGIN:VCALENDAR
VERSION:2.0
PRODID:-//California Telehealth Resource Center - ECPv6.15.18//NONSGML v1.0//EN
CALSCALE:GREGORIAN
METHOD:PUBLISH
X-ORIGINAL-URL:https://caltrc.org
X-WR-CALDESC:Events for California Telehealth Resource Center
REFRESH-INTERVAL;VALUE=DURATION:PT1H
X-Robots-Tag:noindex
X-PUBLISHED-TTL:PT1H
BEGIN:VTIMEZONE
TZID:UTC
BEGIN:STANDARD
TZOFFSETFROM:+0000
TZOFFSETTO:+0000
TZNAME:UTC
DTSTART:20210101T000000
END:STANDARD
END:VTIMEZONE
BEGIN:VEVENT
DTSTART;TZID=UTC:20220217T123000
DTEND;TZID=UTC:20220217T133000
DTSTAMP:20260422T033144
CREATED:20220203T095925Z
LAST-MODIFIED:20220203T095925Z
UID:10000076-1645101000-1645104600@caltrc.org
SUMMARY:Information Session on OCHIN's Health Center Controlled Network
DESCRIPTION:HRSA recently announced the next Health Centered Control Network goals\, metrics\, and timelines. Attend this information session to learn how OCHIN will continue to support your health centers’ goals and priorities with the OCHIN’s next HCCN. During this session\, we will present a general overview of OCHIN’s Health Center Controlled Network (HCCN)\, highlight the benefits of being a part of our HCCN\, and identify some of the new opportunities OCHIN’s HCCN will be providing for the upcoming years. You will be able to meet the experts\, ask questions\, and engage in open discussion to better familiarize yourself with the enormous number of resources we have to offer. \n  \nWho should attend:  \nOur current participating health centers (PHCs) looking to continue a partnership into the next grant cycle. \nHealth care centers currently without a partnering HCCN or looking to switch partnerships. \nAll FQHCs and FQHC look-alikes qualify. \nThere are no size or location restrictions of any kind. OCHIN supports multiple EHRs\, so there is no need to use OCHIN’s Epic EHR to join. \n  \nREGISTER HERE
URL:https://caltrc.org/events/information-session-on-ochins-health-center-controlled-network/
END:VEVENT
END:VCALENDAR