BEGIN:VCALENDAR
VERSION:2.0
PRODID:-//California Telehealth Resource Center - ECPv6.15.18//NONSGML v1.0//EN
CALSCALE:GREGORIAN
METHOD:PUBLISH
X-WR-CALNAME:California Telehealth Resource Center
X-ORIGINAL-URL:https://caltrc.org
X-WR-CALDESC:Events for California Telehealth Resource Center
REFRESH-INTERVAL;VALUE=DURATION:PT1H
X-Robots-Tag:noindex
X-PUBLISHED-TTL:PT1H
BEGIN:VTIMEZONE
TZID:UTC
BEGIN:STANDARD
TZOFFSETFROM:+0000
TZOFFSETTO:+0000
TZNAME:UTC
DTSTART:20220101T000000
END:STANDARD
END:VTIMEZONE
BEGIN:VEVENT
DTSTART;TZID=UTC:20230118T110000
DTEND;TZID=UTC:20230118T120000
DTSTAMP:20260424T201610
CREATED:20221201T134414Z
LAST-MODIFIED:20221201T134638Z
UID:62060-1674039600-1674043200@caltrc.org
SUMMARY:NCTRC Webinar - Telehealth Policy in 2023
DESCRIPTION:Mei Kwong\, Executive Director at the Center for Connected Health Policy (CCHP)\, the federally designated national telehealth policy resource center will be going over where current federal telehealth policy stands\, what to expect in 2023\, and what may happen around telehealth policy as the year progresses. \nCLICK HERE TO REGISTER
URL:https://caltrc.org/events/nctrc-webinar-telehealth-policy-in-2023/
LOCATION:Online/Webinar
CATEGORIES:NCTRC
END:VEVENT
END:VCALENDAR