BEGIN:VCALENDAR
VERSION:2.0
PRODID:-//California Telehealth Resource Center - ECPv6.15.18//NONSGML v1.0//EN
CALSCALE:GREGORIAN
METHOD:PUBLISH
X-WR-CALNAME:California Telehealth Resource Center
X-ORIGINAL-URL:https://caltrc.org
X-WR-CALDESC:Events for California Telehealth Resource Center
REFRESH-INTERVAL;VALUE=DURATION:PT1H
X-Robots-Tag:noindex
X-PUBLISHED-TTL:PT1H
BEGIN:VTIMEZONE
TZID:UTC
BEGIN:STANDARD
TZOFFSETFROM:+0000
TZOFFSETTO:+0000
TZNAME:UTC
DTSTART:20210101T000000
END:STANDARD
END:VTIMEZONE
BEGIN:VEVENT
DTSTART;TZID=UTC:20220818T110000
DTEND;TZID=UTC:20220818T120000
DTSTAMP:20260425T201201
CREATED:20220719T100947Z
LAST-MODIFIED:20220719T100947Z
UID:61607-1660820400-1660824000@caltrc.org
SUMMARY:NCTRC Webinar - Telehealth for Older Adults: Principles\, Guidelines and Lessons Learned
DESCRIPTION:Hosted by: Mid-Atlantic Telehealth Resource Center \nPresented by:\nLaurie Archbald-Pannone\, MD\,MPH\,AGSF\, FACP\nUniversity of Virginia\nAssociate Professor\nAssistant Dean for Student Affairs\, Dunglison College\nClaude Moore Professor of Geriatrics \nMichael Kurliand\, MS\, BSN\, RN-BC\nWest Health Institute\nDirector of Telehealth and Process Improvement \nDescription:\nThere are documented resources for delivering care to older adults\, for telehealth best practices\, for specific sites of care\, but little to none that address all three aspects. To address the gap\, West Health Institute is working with leading experts in older adults\, telehealth and healthcare in a national collaborative. The objective of the collaborative is to accelerate progress in the adoption of telehealth that meets the needs of older adults through the development of a framework that healthcare organizations can use to develop and enhance care delivered through telehealth for older adults.
URL:https://caltrc.org/events/nctrc-webinar-telehealth-for-older-adults-principles-guidelines-and-lessons-learned/
END:VEVENT
END:VCALENDAR