BEGIN:VCALENDAR
VERSION:2.0
PRODID:-//California Telehealth Resource Center - ECPv6.15.18//NONSGML v1.0//EN
CALSCALE:GREGORIAN
METHOD:PUBLISH
X-WR-CALNAME:California Telehealth Resource Center
X-ORIGINAL-URL:https://caltrc.org
X-WR-CALDESC:Events for California Telehealth Resource Center
REFRESH-INTERVAL;VALUE=DURATION:PT1H
X-Robots-Tag:noindex
X-PUBLISHED-TTL:PT1H
BEGIN:VTIMEZONE
TZID:UTC
BEGIN:STANDARD
TZOFFSETFROM:+0000
TZOFFSETTO:+0000
TZNAME:UTC
DTSTART:20210101T000000
END:STANDARD
END:VTIMEZONE
BEGIN:VEVENT
DTSTART;TZID=UTC:20220307T080000
DTEND;TZID=UTC:20220307T170000
DTSTAMP:20260422T011110
CREATED:20220216T105656Z
LAST-MODIFIED:20220216T105656Z
UID:61250-1646640000-1646672400@caltrc.org
SUMMARY:Johns Hopskins Interprofessional Telemedicine Education Symposium
DESCRIPTION:Johns Hopkins and University of Maryland will host a virtual Joint Tele-Health Symposium. Anyone who registers as a nurse\, administrator\, or other “non-clinical” will have free tuition. Providers are charged $175 (early bird discount ends today!). CME and MOC credit are available. \nREGISTER HERE 
URL:https://caltrc.org/events/johns-hopskins-interprofessional-telemedicine-education-symposium/
END:VEVENT
END:VCALENDAR