BEGIN:VCALENDAR
VERSION:2.0
PRODID:-//California Telehealth Resource Center - ECPv6.15.18//NONSGML v1.0//EN
CALSCALE:GREGORIAN
METHOD:PUBLISH
X-WR-CALNAME:California Telehealth Resource Center
X-ORIGINAL-URL:https://caltrc.org
X-WR-CALDESC:Events for California Telehealth Resource Center
REFRESH-INTERVAL;VALUE=DURATION:PT1H
X-Robots-Tag:noindex
X-PUBLISHED-TTL:PT1H
BEGIN:VTIMEZONE
TZID:Asia/Shanghai
BEGIN:STANDARD
TZOFFSETFROM:+0800
TZOFFSETTO:+0800
TZNAME:CST
DTSTART:20230101T000000
END:STANDARD
END:VTIMEZONE
BEGIN:VEVENT
DTSTART;TZID=Asia/Shanghai:20241107T120000
DTEND;TZID=Asia/Shanghai:20241107T130000
DTSTAMP:20260422T011040
CREATED:20241022T171826Z
LAST-MODIFIED:20250214T194956Z
UID:62789-1730980800-1730984400@caltrc.org
SUMMARY:Digital Navigation in the California Safety Net
DESCRIPTION:[vc_row][vc_column][vc_row_inner][vc_column_inner][vc_custom_heading text=”Event Description” font_container=”tag:h2|text_align:left|color:%2378a23f” use_theme_fonts=”yes” css=”.vc_custom_1692314796264{padding-top: 0px !important;padding-bottom: 0px !important;}”][vc_column_text css=””]This presentation will explore the results of a comprehensive study that assessed the implementation of digital navigation programs across primary care clinics serving marginalized populations in California. Attendees will gain valuable insights into the successes and challenges of these programs\, with actionable recommendations for improving digital health access. Digital navigators\, clinicians\, and health system leaders will benefit from learning how to better support patients in overcoming barriers to virtual care access.[/vc_column_text][/vc_column_inner][/vc_row_inner]View Recording[vc_row_inner css=”.vc_custom_1692314355424{padding-top: 1em !important;}”][vc_column_inner width=”2/3″][vc_custom_heading text=”Learning Objectives” font_container=”tag:h2|text_align:left|color:%2378a23f” use_theme_fonts=”yes” css=”.vc_custom_1692314832150{padding-top: 0px !important;padding-bottom: 0px !important;}”][vc_column_text css=””] \n\nUnderstand the role of digital navigation in addressing the digital divide and improving telehealth access for marginalized populations in California’s safety net healthcare systems.\nIdentify key models of digital navigation programs and their varying levels of success across different healthcare settings.\nExplore the strategic recommendations for implementing digital navigation programs\, including leadership engagement and standardized screening tools.\nLearn about the challenges faced by patients with limited English proficiency\, older adults\, and rural populations in accessing telehealth services and how digital navigation programs can address these issues.\n\n[/vc_column_text][/vc_column_inner][vc_column_inner width=”1/3″][vc_single_image image=”49714″ img_size=”full” alignment=”center” animation=”rda_fadeInRight”]View Recording[/vc_column_inner][/vc_row_inner][vc_custom_heading text=”Presenter:” font_container=”tag:h2|text_align:center|color:%2378a23f” use_theme_fonts=”yes” css=”.vc_custom_1692314247697{padding-top: 0px !important;padding-bottom: 0px !important;}”]\n[vc_row_inner content_placement=”middle” css=”.vc_custom_1692310176984{padding-top: 1em !important;}”][vc_column_inner width=”1/3″][vc_single_image image=”62790″ img_size=”full” alignment=”center” style=”vc_box_border_circle_2″ border_color=”blue” css=””][/vc_column_inner][vc_column_inner width=”2/3″][vc_custom_heading text=”Sarah Rahman\, MD\, MPH” font_container=”tag:h3|text_align:left|color:%230070bc” use_theme_fonts=”yes” css=””][vc_custom_heading text=”Alameda Health System\, ACMIO” font_container=”tag:h5|text_align:left|color:%23f5851f” use_theme_fonts=”yes” css=””][/vc_column_inner][/vc_row_inner][vc_row_inner content_placement=”middle” css=”.vc_custom_1692310176984{padding-top: 1em !important;}”][vc_column_inner][vc_column_text css=””] \nSarah Rahman is the Associate Chief Medical Informatics Officer at Alameda Health System\, a safety-net provider dedicated to the health and well-being of Alameda County’s community. Since stepping into this role in January 2022\, she has worked passionately to leverage technology in healthcare\, with a focus on improving access and quality for underserved populations. With over a decade of experience as a physician informaticist\, she supported Epic systems implementation and served as the Medical Director of Informatics and Virtual Medicine at her previous organization. Dr. Rahman is deeply committed to advancing digital health and promoting health care access\, consistently advocating for the patient’s voice as new technologies\, including artificial intelligence\, continue to shape the future of healthcare \nA graduate of Barnard College and Cornell University Medical College\, Dr. Rahman completed her residency in Internal Medicine at UCSF. She is board certified in Internal Medicine and Clinical Informatics. In addition\, she earned her MPH from UC Berkeley\, with a concentration in Health Policy and Management\, where her interests focused on digital literacy\, telehealth\, and AI in healthcare.[/vc_column_text][/vc_column_inner][/vc_row_inner][/vc_column][/vc_row]
URL:https://caltrc.org/events/digital-navigation-in-the-california-safety-net/
LOCATION:Virtual
CATEGORIES:CTRC Event
END:VEVENT
END:VCALENDAR