BEGIN:VCALENDAR
VERSION:2.0
PRODID:-//California Telehealth Resource Center - ECPv6.15.18//NONSGML v1.0//EN
CALSCALE:GREGORIAN
METHOD:PUBLISH
X-WR-CALNAME:California Telehealth Resource Center
X-ORIGINAL-URL:https://caltrc.org
X-WR-CALDESC:Events for California Telehealth Resource Center
REFRESH-INTERVAL;VALUE=DURATION:PT1H
X-Robots-Tag:noindex
X-PUBLISHED-TTL:PT1H
BEGIN:VTIMEZONE
TZID:UTC
BEGIN:STANDARD
TZOFFSETFROM:+0000
TZOFFSETTO:+0000
TZNAME:UTC
DTSTART:20210101T000000
END:STANDARD
END:VTIMEZONE
BEGIN:VEVENT
DTSTART;TZID=UTC:20220823T120000
DTEND;TZID=UTC:20220823T130000
DTSTAMP:20260425T201058
CREATED:20220721T134053Z
LAST-MODIFIED:20220826T133203Z
UID:61611-1661256000-1661259600@caltrc.org
SUMMARY:CTRC Webinar: Remote Patient Monitoring – Real World Implementation
DESCRIPTION:This session provided an introduction and overview of Remote Patient Monitoring (RPM) including the foundation of building the right team and how to assess\, plan\, and identify clinical use cases. Participants will gain insight for selecting the right technology and increase their understanding of reimbursement\, budget considerations\, policies\, protocols\, and procedures for RPM program sustainability and success. \nGuest Speaker: Megan Bowen\, NCQA PCMH CCE \nCLICK HERE TO VIEW THE SLIDE DECK \nCLICK HERE TO WATCH THE SESSION RECORDING ON OUR YOUTUBE CHANNEL  \nCLICK HERE FOR THE Q&A SUMMARY
URL:https://caltrc.org/events/ctrc-webinar-remote-patient-monitoring-real-world-implementation/
END:VEVENT
END:VCALENDAR