BEGIN:VCALENDAR
VERSION:2.0
PRODID:-//California Telehealth Resource Center - ECPv6.15.18//NONSGML v1.0//EN
CALSCALE:GREGORIAN
METHOD:PUBLISH
X-WR-CALNAME:California Telehealth Resource Center
X-ORIGINAL-URL:https://caltrc.org
X-WR-CALDESC:Events for California Telehealth Resource Center
REFRESH-INTERVAL;VALUE=DURATION:PT1H
X-Robots-Tag:noindex
X-PUBLISHED-TTL:PT1H
BEGIN:VTIMEZONE
TZID:Asia/Shanghai
BEGIN:STANDARD
TZOFFSETFROM:+0800
TZOFFSETTO:+0800
TZNAME:CST
DTSTART:20250101T000000
END:STANDARD
END:VTIMEZONE
BEGIN:VTIMEZONE
TZID:America/New_York
BEGIN:DAYLIGHT
TZOFFSETFROM:-0500
TZOFFSETTO:-0400
TZNAME:EDT
DTSTART:20200308T070000
END:DAYLIGHT
BEGIN:STANDARD
TZOFFSETFROM:-0400
TZOFFSETTO:-0500
TZNAME:EST
DTSTART:20201101T060000
END:STANDARD
BEGIN:DAYLIGHT
TZOFFSETFROM:-0500
TZOFFSETTO:-0400
TZNAME:EDT
DTSTART:20210314T070000
END:DAYLIGHT
BEGIN:STANDARD
TZOFFSETFROM:-0400
TZOFFSETTO:-0500
TZNAME:EST
DTSTART:20211107T060000
END:STANDARD
BEGIN:DAYLIGHT
TZOFFSETFROM:-0500
TZOFFSETTO:-0400
TZNAME:EDT
DTSTART:20220313T070000
END:DAYLIGHT
BEGIN:STANDARD
TZOFFSETFROM:-0400
TZOFFSETTO:-0500
TZNAME:EST
DTSTART:20221106T060000
END:STANDARD
END:VTIMEZONE
BEGIN:VEVENT
DTSTART;TZID=Asia/Shanghai:20260219T110000
DTEND;TZID=Asia/Shanghai:20260219T120000
DTSTAMP:20260422T222103
CREATED:20260123T005040Z
LAST-MODIFIED:20260128T195421Z
UID:10000150-1771498800-1771502400@caltrc.org
SUMMARY:NCTRC Webinar - Resilience\, Relationships\, Readiness and Recovery
DESCRIPTION:[vc_row][vc_column][vc_row_inner][vc_column_inner][vc_custom_heading text=”Event Description” font_container=”tag:h2|text_align:left|color:%2378a23f” use_theme_fonts=”yes” css=”.vc_custom_1692314796264{padding-top: 0px !important;padding-bottom: 0px !important;}”][vc_column_text css=””]Hear real stories from rural communities\, highlighting hard-earned lessons from emergencies\, disruptions\, and recovery efforts that are relevant to communities of all sizes. This webinar explores the promise of telehealth while underscoring a critical reality: there is no magic system that works in a disaster or crisis without intentional planning\, strong relationships\, and tested workflows already in place. Participants will gain practical\, experience-based insights to help their organizations strengthen readiness and use telehealth effectively when it matters most – weather events\, mass gatherings\, public health threats and more.[/vc_column_text][/vc_column_inner][/vc_row_inner]REGISTER HERE[vc_custom_heading text=”Presented By:” font_container=”tag:h2|text_align:center|color:%2378a23f” use_theme_fonts=”yes” css=”.vc_custom_1769129394212{padding-top: 0px !important;padding-bottom: 0px !important;}”]\n[vc_row_inner content_placement=”middle” css=”.vc_custom_1692310176984{padding-top: 1em !important;}”][vc_column_inner][vc_column_text css=””] \n-Steve North\, MD\, MPH\, Medical Director\, Mountain Community Health Partnership \n-Anthony Nappi PT\, RN\, Healthcare Consultant \n-Brian S. Gunnell\, Telemedicine Senior Engineer\, UVA HIT and Team Lead\, UVA Center for Telehealth \n[/vc_column_text][/vc_column_inner][/vc_row_inner][/vc_column][/vc_row]
URL:https://caltrc.org/events/nctrc-webinar-resilience-relationships-readiness-and-recovery/
LOCATION:Online/Webinar
CATEGORIES:MATRC,NCTRC
ATTACH;FMTTYPE=image/png:https://caltrc.org/wp-content/uploads/2026/01/6124c560-c389-432c-85be-84ef748abb8d.png
END:VEVENT
BEGIN:VEVENT
DTSTART;TZID=America/New_York:20210328T140000
DTEND;TZID=America/New_York:20210331T160000
DTSTAMP:20260422T222103
CREATED:20210303T152552Z
LAST-MODIFIED:20210323T074703Z
UID:10000027-1616940000-1617206400@caltrc.org
SUMMARY:2021 MATRC Telehealth Summit
DESCRIPTION:[vc_row type=”full-width-section” css=”.vc_custom_1614815878140{margin-top: 0px !important;margin-bottom: 0px !important;}”][vc_column][vc_row_inner content_placement=”top”][vc_column_inner width=”2/3″][vc_column_text]Disruptive technologies and innovations are what happens when a certain type of technology\, the implementation of an innovative process\, the introduction of a new player or perhaps a global pandemic creates a market shift in how the health care sector does business. These disruptions can transform how we educate providers\, how and where we deliver health care services and/or how we finance health care delivery systems. Join us at the 2021 MATRC Telehealth Summit as we hear from those who are leading change through disruption. \nHOSTED BY MID-ATLANTIC TELEHEALTH RESOURCE CENTER[/vc_column_text]Click Here to Register[/vc_column_inner][vc_column_inner width=”1/3″][vc_single_image image=”16315″ img_size=”full” alignment=”center”][/vc_column_inner][/vc_row_inner][/vc_column][/vc_row]
URL:https://caltrc.org/events/2021-matrc-telehealth-summit/
CATEGORIES:MATRC
END:VEVENT
END:VCALENDAR